BEGIN:VCALENDAR
VERSION:2.0
PRODID:-//UFV Arquitectura
CALSCALE:GREGORIAN
METHOD:PUBLISH
X-WR-CALNAME:UFV Arquitectura
X-ORIGINAL-URL:https://arquitectura.ufv.es/en/eventos/bird-of-fire/
X-WR-CALDESC:Bird of Fire
BEGIN:VEVENT
DTSTART:20160302T120000
DTEND:20160302T143000
SUMMARY:Bird of Fire
DESCRIPTION:
LOCATION:Aula Magna (H Building)
END:VEVENT
END:VCALENDAR
