BEGIN:VCALENDAR
VERSION:2.0
PRODID:-//UFV Arquitectura
CALSCALE:GREGORIAN
METHOD:PUBLISH
X-WR-CALNAME:UFV Arquitectura
X-ORIGINAL-URL:https://arquitectura.ufv.es/en/eventos/orientation-day-malaga/
X-WR-CALDESC:Orientation Day &#8211; Málaga
BEGIN:VEVENT
DTSTART:20160212T000000
DTEND:20160212T000000
SUMMARY:Orientation Day &#8211; Málaga
DESCRIPTION:
LOCATION:Hotel Molina Lario, Malaga, Spain
END:VEVENT
END:VCALENDAR
