BEGIN:VCALENDAR
VERSION:2.0
PRODID:-//UFV Arquitectura
CALSCALE:GREGORIAN
METHOD:PUBLISH
X-WR-CALNAME:UFV Arquitectura
X-ORIGINAL-URL:https://arquitectura.ufv.es/en/eventos/thesis-reading-by-daniel-movilla/
X-WR-CALDESC:Thesi&#8217;s Reading by Daniel Movilla
BEGIN:VEVENT
DTSTART:20160113T133000
DTEND:20160113T153000
SUMMARY:Thesi&#8217;s Reading by Daniel Movilla
DESCRIPTION:Thesi's reading about 'Vivienda Colectiva'
LOCATION:
END:VEVENT
END:VCALENDAR
