BEGIN:VCALENDAR
VERSION:2.0
PRODID:-//UFV Arquitectura
CALSCALE:GREGORIAN
METHOD:PUBLISH
X-WR-CALNAME:UFV Arquitectura
X-ORIGINAL-URL:https://arquitectura.ufv.es/eventos/winter-jury/
X-WR-CALDESC:Winter Jury
BEGIN:VEVENT
DTSTART:20160224T100000
DTEND:20160224T160000
SUMMARY:Winter Jury
DESCRIPTION:
LOCATION:
END:VEVENT
END:VCALENDAR
