BEGIN:VCALENDAR
VERSION:2.0
PRODID:-//UFV Arquitectura
CALSCALE:GREGORIAN
METHOD:PUBLISH
X-WR-CALNAME:UFV Arquitectura
X-ORIGINAL-URL:https://arquitectura.ufv.es/eventos/barrio-sostenible-2/
X-WR-CALDESC:Barrio Sostenible
BEGIN:VEVENT
DTSTART:20160203T090000
DTEND:20160203T150000
SUMMARY:Barrio Sostenible
DESCRIPTION:
LOCATION:Usera, Madrid
END:VEVENT
END:VCALENDAR
