BEGIN:VCALENDAR
VERSION:2.0
PRODID:-//UFV Arquitectura
CALSCALE:GREGORIAN
METHOD:PUBLISH
X-WR-CALNAME:UFV Arquitectura
X-ORIGINAL-URL:https://arquitectura.ufv.es/eventos/jornada-de-orientacion-en-toledo/
X-WR-CALDESC:Jornada de Orientación en Toledo
BEGIN:VEVENT
DTSTART:20160129T150000
DTEND:20160129T190000
SUMMARY:Jornada de Orientación en Toledo
DESCRIPTION:¡La Universidad Francisco de Vitoria instala su campus en tu ciudad por un día!
LOCATION:Concilios de Toledo, 1,45005 Toledo
END:VEVENT
END:VCALENDAR
