BEGIN:VCALENDAR
VERSION:2.0
PRODID:-//UFV Arquitectura
CALSCALE:GREGORIAN
METHOD:PUBLISH
X-WR-CALNAME:UFV Arquitectura
X-ORIGINAL-URL:https://arquitectura.ufv.es/eventos/charla-soportes-urbanos/
X-WR-CALDESC:Charla &#8216;Soportes urbanos&#8217;
BEGIN:VEVENT
DTSTART:20151006T100000
DTEND:20151006T120000
SUMMARY:Charla &#8216;Soportes urbanos&#8217;
DESCRIPTION:
LOCATION:Aula 1.13 H
END:VEVENT
END:VCALENDAR
