BEGIN:VCALENDAR
VERSION:2.0
PRODID:-//UFV Arquitectura
CALSCALE:GREGORIAN
METHOD:PUBLISH
X-WR-CALNAME:UFV Arquitectura
X-ORIGINAL-URL:https://arquitectura.ufv.es/eventos/design-your-goal/
X-WR-CALDESC:Design your goal
BEGIN:VEVENT
DTSTART:20151007T090000
DTEND:
SUMMARY:Design your goal
DESCRIPTION:
LOCATION:Pecera Edificio H
END:VEVENT
END:VCALENDAR
