BEGIN:VCALENDAR
VERSION:2.0
PRODID:-//UFV Arquitectura
CALSCALE:GREGORIAN
METHOD:PUBLISH
X-WR-CALNAME:UFV Arquitectura
X-ORIGINAL-URL:https://arquitectura.ufv.es/eventos/visita-alberto-campo-baeza/
X-WR-CALDESC:Visita Alberto Campo Baeza
BEGIN:VEVENT
DTSTART:20151019T120000
DTEND:20151019T150000
SUMMARY:Visita Alberto Campo Baeza
DESCRIPTION:
LOCATION:Aula Magna UFV
END:VEVENT
END:VCALENDAR
