BEGIN:VCALENDAR
VERSION:2.0
PRODID:-//UFV Arquitectura
CALSCALE:GREGORIAN
METHOD:PUBLISH
X-WR-CALNAME:UFV Arquitectura
X-ORIGINAL-URL:https://arquitectura.ufv.es/eventos/charla-con-victoria-alburquerque/
X-WR-CALDESC:Charla con Victoria Alburquerque
BEGIN:VEVENT
DTSTART:20151103T080000
DTEND:20151103T100000
SUMMARY:Charla con Victoria Alburquerque
DESCRIPTION:
LOCATION:Aula 1.13 H
END:VEVENT
END:VCALENDAR
